BEGIN:VCALENDAR
VERSION:2.0
PRODID:spatie/icalendar-generator
DESCRIPTION:Events from ACB Media Network
X-WR-CALDESC:Events from ACB Media Network
REFRESH-INTERVAL;VALUE=DURATION:PT1440M
X-PUBLISHED-TTL:PT1440M
BEGIN:VTIMEZONE
TZID:America/New_York
BEGIN:STANDARD
DTSTART:20251102T020000Z
TZOFFSETFROM:-0400
TZOFFSETTO:-0500
END:STANDARD
BEGIN:DAYLIGHT
DTSTART:20260308T020000Z
TZOFFSETFROM:-0500
TZOFFSETTO:-0400
END:DAYLIGHT
END:VTIMEZONE
BEGIN:VTIMEZONE
TZID:UTC
BEGIN:STANDARD
DTSTART:20250724T210507Z
TZOFFSETFROM:+0000
TZOFFSETTO:+0000
END:STANDARD
END:VTIMEZONE
BEGIN:VEVENT
UID:105125-4180
DTSTAMP:20260420T210507Z
SUMMARY:ACB Presents the Daily Schedule
LOCATION:
ORGANIZER;CN=Public Submitter:MAILTO:
DTSTART;TZID=America/New_York:20260405T090000
DTEND;TZID=America/New_York:20260405T100000
X-ALT-DESC;FMTTYPE=TEXT/HTML:Join your Community Morning Crew for the quest
 ion of the day\; reading of the daily schedule\; and sharing time.
CATEGORIES:ACB Media 5
URL;VALUE=URI:https://www.acbmedia.org/calendar/?mc_id=105125
METHOD:PUBLISH
END:VEVENT
BEGIN:VEVENT
UID:105126-4181
DTSTAMP:20260420T210507Z
SUMMARY:Birding with Lucy at Mockingbird Hill
LOCATION:
ORGANIZER;CN=Public Submitter:MAILTO:
DTSTART;TZID=America/New_York:20260405T180000
DTEND;TZID=America/New_York:20260405T190000
X-ALT-DESC;FMTTYPE=TEXT/HTML:Whether you’re a seasoned &amp;#8220\;birder&amp;#82
 21\; or just enjoy the morning chirps from your porch\, join Lucy Arguijo 
 in Mockingbird Hill to explore the fascinating worldof backyard birds\, fr
 om their unique nesting behaviors and feeding habits to the wonder of seas
 onal migration. We will learn to identify them by ear\, aswell as share pr
 actical tips and&amp;hellip\;
CATEGORIES:ACB Media 5
URL;VALUE=URI:https://www.acbmedia.org/calendar/?mc_id=105126
METHOD:PUBLISH
END:VEVENT
BEGIN:VEVENT
UID:105127-4182
DTSTAMP:20260420T210507Z
SUMMARY:ACB Presents the Daily Schedule
LOCATION:
ORGANIZER;CN=Public Submitter:MAILTO:
DTSTART;TZID=America/New_York:20260406T090000
DTEND;TZID=America/New_York:20260406T100000
X-ALT-DESC;FMTTYPE=TEXT/HTML:Join your Community Morning Crew for the quest
 ion of the day\; reading of the daily schedule\; and sharing time.
CATEGORIES:ACB Media 5
URL;VALUE=URI:https://www.acbmedia.org/calendar/?mc_id=105127
METHOD:PUBLISH
END:VEVENT
BEGIN:VEVENT
UID:105128-4183
DTSTAMP:20260420T210507Z
SUMMARY:Sports Roundtable
LOCATION:
ORGANIZER;CN=Public Submitter:MAILTO:
DTSTART;TZID=America/New_York:20260406T170000
DTEND;TZID=America/New_York:20260406T180000
X-ALT-DESC;FMTTYPE=TEXT/HTML:Join the Sports Spelunkers as we highlight the
  wonderful\, wide\, and wacky world of (primarily) U.S. team sports.
CATEGORIES:ACB Media 5
URL;VALUE=URI:https://www.acbmedia.org/calendar/?mc_id=105128
METHOD:PUBLISH
END:VEVENT
BEGIN:VEVENT
UID:105129-4184
DTSTAMP:20260420T210507Z
SUMMARY:ACB Presents the Daily Schedule
LOCATION:
ORGANIZER;CN=Public Submitter:MAILTO:
DTSTART;TZID=America/New_York:20260407T090000
DTEND;TZID=America/New_York:20260407T100000
X-ALT-DESC;FMTTYPE=TEXT/HTML:Join your Community Morning Crew for the quest
 ion of the day\; reading of the daily schedule\; and sharing time.
CATEGORIES:ACB Media 5
URL;VALUE=URI:https://www.acbmedia.org/calendar/?mc_id=105129
METHOD:PUBLISH
END:VEVENT
BEGIN:VEVENT
UID:105130-4185
DTSTAMP:20260420T210507Z
SUMMARY:Herbie&amp;#8217\;s Community Cooking Corner
LOCATION:
ORGANIZER;CN=Public Submitter:MAILTO:
DTSTART;TZID=America/New_York:20260407T100000
DTEND;TZID=America/New_York:20260407T113000
X-ALT-DESC;FMTTYPE=TEXT/HTML:Get ready for another cooking adventure. This 
 time: Meat Lovers Pizza Casserole. If Cooking along\, you will need the fo
 llowing: 1 refrigerated crescent roll dough sheet 1 lb (450 g) ground beef
  1½ cups pizza sauce 2 cups shredded mozzarella cheese 20–25 pepperoni 
 slices ½ teaspoon Italian seasoning ¼ teaspoon garlic powder Salt and bl
 ack&amp;hellip\;
CATEGORIES:ACB Media 5
URL;VALUE=URI:https://www.acbmedia.org/calendar/?mc_id=105130
METHOD:PUBLISH
END:VEVENT
BEGIN:VEVENT
UID:105131-4186
DTSTAMP:20260420T210507Z
SUMMARY:Abacus Made Simple
LOCATION:
ORGANIZER;CN=Public Submitter:MAILTO:
DTSTART;TZID=America/New_York:20260407T140000
DTEND;TZID=America/New_York:20260407T150000
X-ALT-DESC;FMTTYPE=TEXT/HTML:Even though we have our computers and smart ph
 ones to help us with math calculations\, an abacus is just fun to use! If 
 you used an abacus before and just want a refresher\, or if you have never
  used one\, this class will be fun and easy!
CATEGORIES:ACB Media 5
URL;VALUE=URI:https://www.acbmedia.org/calendar/?mc_id=105131
METHOD:PUBLISH
END:VEVENT
BEGIN:VEVENT
UID:105132-4187
DTSTAMP:20260420T210507Z
SUMMARY:Tuesday Topics
LOCATION:
ORGANIZER;CN=Public Submitter:MAILTO:
DTSTART;TZID=America/New_York:20260407T190000
DTEND;TZID=America/New_York:20260407T210000
X-ALT-DESC;FMTTYPE=TEXT/HTML:We&amp;#8217\;ll cover ear buds\, telephones\, and
  players that do far more than play music and books. We&amp;#8217\;ll also exp
 lore affordable software for phones and computers\, including screen reade
 rs that go well beyond reading what&amp;#8217\;s on the screen.
CATEGORIES:ACB Media 1
URL;VALUE=URI:https://www.acbmedia.org/calendar/?mc_id=105132
METHOD:PUBLISH
END:VEVENT
BEGIN:VEVENT
UID:105133-4188
DTSTAMP:20260420T210507Z
SUMMARY:BOP Monthly Meeting
LOCATION:
ORGANIZER;CN=Public Submitter:MAILTO:
DTSTART;TZID=America/New_York:20260407T210000
DTEND;TZID=America/New_York:20260407T223000
X-ALT-DESC;FMTTYPE=TEXT/HTML:Board of Publications welcomes ACB members to 
 attend our monthly meeting.
CATEGORIES:ACB Media 6
URL;VALUE=URI:https://www.acbmedia.org/calendar/?mc_id=105133
METHOD:PUBLISH
END:VEVENT
BEGIN:VEVENT
UID:105134-4189
DTSTAMP:20260420T210507Z
SUMMARY:ACB Presents the Daily Schedule
LOCATION:
ORGANIZER;CN=Public Submitter:MAILTO:
DTSTART;TZID=America/New_York:20260408T090000
DTEND;TZID=America/New_York:20260408T100000
X-ALT-DESC;FMTTYPE=TEXT/HTML:Join your Community Morning Crew for the quest
 ion of the day\; reading of the daily schedule\; and sharing time.
CATEGORIES:ACB Media 5
URL;VALUE=URI:https://www.acbmedia.org/calendar/?mc_id=105134
METHOD:PUBLISH
END:VEVENT
BEGIN:VEVENT
UID:105135-4190
DTSTAMP:20260420T210507Z
SUMMARY:Recipe Swap: Pizza\, Pizza!
LOCATION:
ORGANIZER;CN=Public Submitter:MAILTO:
DTSTART;TZID=America/New_York:20260408T190000
DTEND;TZID=America/New_York:20260408T200000
X-ALT-DESC;FMTTYPE=TEXT/HTML:Pizza is not just with pepperoni anymore! Pizz
 a can be for breakfast\, dessert\, or whenever. Come and share your favori
 te recipe or just come and tell us about your favorite pizza!
CATEGORIES:ACB Media 5
URL;VALUE=URI:https://www.acbmedia.org/calendar/?mc_id=105135
METHOD:PUBLISH
END:VEVENT
BEGIN:VEVENT
UID:105136-4191
DTSTAMP:20260420T210507Z
SUMMARY:Living Better with Diabetes
LOCATION:
ORGANIZER;CN=Public Submitter:MAILTO:
DTSTART;TZID=America/New_York:20260408T200000
DTEND;TZID=America/New_York:20260408T210000
X-ALT-DESC;FMTTYPE=TEXT/HTML:&amp;#8220\;Regular Physical Activity is one of th
 e key components in helping to keep our Diabetes under control. Our speake
 r\, Evan Charles Schwerbrock will walk and or run us through this importan
 t aspect of our Diabetic life. &amp;#8220\;
CATEGORIES:ACB Media 6
URL;VALUE=URI:https://www.acbmedia.org/calendar/?mc_id=105136
METHOD:PUBLISH
END:VEVENT
BEGIN:VEVENT
UID:105137-4192
DTSTAMP:20260420T210507Z
SUMMARY:ACB Presents the Daily Schedule
LOCATION:
ORGANIZER;CN=Public Submitter:MAILTO:
DTSTART;TZID=America/New_York:20260409T090000
DTEND;TZID=America/New_York:20260409T100000
X-ALT-DESC;FMTTYPE=TEXT/HTML:Join your Community Morning Crew for the quest
 ion of the day\; reading of the daily schedule\; and sharing time.
CATEGORIES:ACB Media 5
URL;VALUE=URI:https://www.acbmedia.org/calendar/?mc_id=105137
METHOD:PUBLISH
END:VEVENT
BEGIN:VEVENT
UID:105138-4193
DTSTAMP:20260420T210507Z
SUMMARY:I Love Braille
LOCATION:
ORGANIZER;CN=Public Submitter:MAILTO:
DTSTART;TZID=America/New_York:20260409T120000
DTEND;TZID=America/New_York:20260409T133000
X-ALT-DESC;FMTTYPE=TEXT/HTML:This will be an interactive session with parti
 cipants asking braille-related questions and answering them.
CATEGORIES:ACB Media 5
URL;VALUE=URI:https://www.acbmedia.org/calendar/?mc_id=105138
METHOD:PUBLISH
END:VEVENT
BEGIN:VEVENT
UID:105139-4194
DTSTAMP:20260420T210507Z
SUMMARY:Berle Coley Leadership
LOCATION:
ORGANIZER;CN=Public Submitter:MAILTO:
DTSTART;TZID=America/New_York:20260409T210000
DTEND;TZID=America/New_York:20260409T220000
X-ALT-DESC;FMTTYPE=TEXT/HTML:We will be electing members of the ACB Board o
 f Directors and Board of Publications at our upcoming Conference and Conve
 ntion. Come hear from two individuals who will share what helped them prep
 are to successfully run for one of these positions.
CATEGORIES:ACB Media 6
URL;VALUE=URI:https://www.acbmedia.org/calendar/?mc_id=105139
METHOD:PUBLISH
END:VEVENT
BEGIN:VEVENT
UID:105140-4195
DTSTAMP:20260420T210507Z
SUMMARY:ACB Presents the Daily Schedule
LOCATION:
ORGANIZER;CN=Public Submitter:MAILTO:
DTSTART;TZID=America/New_York:20260410T090000
DTEND;TZID=America/New_York:20260410T100000
X-ALT-DESC;FMTTYPE=TEXT/HTML:Join your Community Morning Crew for the quest
 ion of the day\; reading of the daily schedule\; and sharing time.
CATEGORIES:ACB Media 5
URL;VALUE=URI:https://www.acbmedia.org/calendar/?mc_id=105140
METHOD:PUBLISH
END:VEVENT
BEGIN:VEVENT
UID:105141-4196
DTSTAMP:20260420T210507Z
SUMMARY:In Perspective
LOCATION:
ORGANIZER;CN=Public Submitter:MAILTO:
DTSTART;TZID=America/New_York:20260410T170000
DTEND;TZID=America/New_York:20260410T180000
X-ALT-DESC;FMTTYPE=TEXT/HTML:&amp;#8221\; Featuring Kim Charlson\, librarian\, 
 disability leader\, and cancer survivor&amp;#8221\;
CATEGORIES:ACB Media 5
URL;VALUE=URI:https://www.acbmedia.org/calendar/?mc_id=105141
METHOD:PUBLISH
END:VEVENT
BEGIN:VEVENT
UID:105142-4197
DTSTAMP:20260420T210507Z
SUMMARY:Visabilities &amp;#8211\; How ABLE Are You?
LOCATION:
ORGANIZER;CN=Public Submitter:MAILTO:
DTSTART;TZID=America/New_York:20260410T190000
DTEND;TZID=America/New_York:20260410T200000
X-ALT-DESC;FMTTYPE=TEXT/HTML:Join Terry as she welcomes ACB Board Member Ch
 ris Bell for a discussion of the ABLE accounts many of us are eligible. Wh
 at is it? Who is eligible? Are there limits? What can it be used for? Are 
 there tax benefits? These are a few questions we will be learning more abo
 ut. All are welcome@
CATEGORIES:ACB Media 1
URL;VALUE=URI:https://www.acbmedia.org/calendar/?mc_id=105142
METHOD:PUBLISH
END:VEVENT
BEGIN:VEVENT
UID:105143-4198
DTSTAMP:20260420T210507Z
SUMMARY:Author Collective
LOCATION:
ORGANIZER;CN=Public Submitter:MAILTO:
DTSTART;TZID=America/New_York:20260410T200000
DTEND;TZID=America/New_York:20260410T210000
X-ALT-DESC;FMTTYPE=TEXT/HTML:Featuring Chrys Buckley\, 2025 FIA scholarship
  winner.
CATEGORIES:ACB Media 6
URL;VALUE=URI:https://www.acbmedia.org/calendar/?mc_id=105143
METHOD:PUBLISH
END:VEVENT
BEGIN:VEVENT
UID:105144-4199
DTSTAMP:20260420T210507Z
SUMMARY:It&amp;#8217\;s Play Time
LOCATION:
ORGANIZER;CN=Public Submitter:MAILTO:
DTSTART;TZID=America/New_York:20260410T210000
DTEND;TZID=America/New_York:20260410T220000
X-ALT-DESC;FMTTYPE=TEXT/HTML:Meka and Cindy welcome you to join in for anot
 her fun Friday night filled with games and laughter.
CATEGORIES:ACB Media 5
URL;VALUE=URI:https://www.acbmedia.org/calendar/?mc_id=105144
METHOD:PUBLISH
END:VEVENT
BEGIN:VEVENT
UID:105145-4200
DTSTAMP:20260420T210507Z
SUMMARY:ACB Presents the Daily Schedule
LOCATION:
ORGANIZER;CN=Public Submitter:MAILTO:
DTSTART;TZID=America/New_York:20260411T090000
DTEND;TZID=America/New_York:20260411T100000
X-ALT-DESC;FMTTYPE=TEXT/HTML:Join your Community Morning Crew for the quest
 ion of the day\; reading of the daily schedule\; and sharing time.
CATEGORIES:ACB Media 5
URL;VALUE=URI:https://www.acbmedia.org/calendar/?mc_id=105145
METHOD:PUBLISH
END:VEVENT
BEGIN:VEVENT
UID:105146-4201
DTSTAMP:20260420T210507Z
SUMMARY:Community Karaoke
LOCATION:
ORGANIZER;CN=Public Submitter:MAILTO:
DTSTART;TZID=America/New_York:20260411T200000
DTEND;TZID=America/New_York:20260411T220000
X-ALT-DESC;FMTTYPE=TEXT/HTML:Meka and Cindy invite you for another night of
  karaoke with your community friends. Performances are all pre-recorded. T
 hose wishing to perform should email KaraokeUnite@gmail.com to be included
  in the weekly communication.Note: Please remain muted throughout the even
 ing with only a brief unmuting to provide verbal applause at the end of ea
 ch performance. Hosts will&amp;hellip\;
CATEGORIES:ACB Media 4
URL;VALUE=URI:https://www.acbmedia.org/calendar/?mc_id=105146
METHOD:PUBLISH
END:VEVENT
END:VCALENDAR