BEGIN:VCALENDAR
VERSION:2.0
PRODID:spatie/icalendar-generator
DESCRIPTION:Events from ACB Media Network
X-WR-CALDESC:Events from ACB Media Network
REFRESH-INTERVAL;VALUE=DURATION:PT1440M
X-PUBLISHED-TTL:PT1440M
BEGIN:VTIMEZONE
TZID:America/New_York
BEGIN:STANDARD
DTSTART:20251102T020000Z
TZOFFSETFROM:-0400
TZOFFSETTO:-0500
END:STANDARD
BEGIN:DAYLIGHT
DTSTART:20260308T020000Z
TZOFFSETFROM:-0500
TZOFFSETTO:-0400
END:DAYLIGHT
END:VTIMEZONE
BEGIN:VTIMEZONE
TZID:UTC
BEGIN:STANDARD
DTSTART:20250723T171415Z
TZOFFSETFROM:+0000
TZOFFSETTO:+0000
END:STANDARD
END:VTIMEZONE
BEGIN:VEVENT
UID:105052-4108
DTSTAMP:20260419T171415Z
SUMMARY:In the Kitchen&amp;#8230\;..
LOCATION:
ORGANIZER;CN=Public Submitter:MAILTO:
DTSTART;TZID=America/New_York:20260303T200000
DTEND;TZID=America/New_York:20260303T210000
X-ALT-DESC;FMTTYPE=TEXT/HTML:Do Nutrition Facts labels make your brain do s
 omersaults every time you read them — like they’re written in secret f
 ood-science code rather than English?Think of a Nutrition Facts label as a
  tiny\, talkative guide living on your food package that spills the beans 
 on calories\, nutrients\, and even sneaky added sugars so you know&amp;hellip\
 ;
CATEGORIES:ACB Media 5
URL;VALUE=URI:https://www.acbmedia.org/calendar/?mc_id=105052&#038;vcal=105
 052
METHOD:PUBLISH
END:VEVENT
END:VCALENDAR