BEGIN:VCALENDAR
VERSION:2.0
PRODID:spatie/icalendar-generator
DESCRIPTION:Events from ACB Media Network
X-WR-CALDESC:Events from ACB Media Network
REFRESH-INTERVAL;VALUE=DURATION:PT1440M
X-PUBLISHED-TTL:PT1440M
BEGIN:VTIMEZONE
TZID:America/New_York
BEGIN:STANDARD
DTSTART:20251102T020000Z
TZOFFSETFROM:-0400
TZOFFSETTO:-0500
END:STANDARD
BEGIN:DAYLIGHT
DTSTART:20260308T020000Z
TZOFFSETFROM:-0500
TZOFFSETTO:-0400
END:DAYLIGHT
END:VTIMEZONE
BEGIN:VTIMEZONE
TZID:UTC
BEGIN:STANDARD
DTSTART:20250724T065717Z
TZOFFSETFROM:+0000
TZOFFSETTO:+0000
END:STANDARD
END:VTIMEZONE
BEGIN:VEVENT
UID:104506-3562
DTSTAMP:20260420T065717Z
SUMMARY:Community Karaoke
LOCATION:
ORGANIZER;CN=Public Submitter:MAILTO:
DTSTART;TZID=America/New_York:20260131T200000
DTEND;TZID=America/New_York:20260131T220000
X-ALT-DESC;FMTTYPE=TEXT/HTML:Meka and Cindy invite you for another night of
  karaoke with your community friends. Performances are all pre-recorded. T
 hose wishing to perform should email community@acb.org to be included in t
 he weekly communication.Note: Please remain muted throughout the evening w
 ith only a brief unmuting to provide verbal applause at the end of each pe
 rformance. Hosts will&amp;hellip\;
CATEGORIES:ACB Media 4
URL;VALUE=URI:https://www.acbmedia.org/calendar/?cid=my-calendar&#038;mc_id
 =104506&#038;vcal=104506
METHOD:PUBLISH
END:VEVENT
END:VCALENDAR